Package: CCPlotR Version: 1.8.0 Command: rm -rf CCPlotR.buildbin-libdir && mkdir CCPlotR.buildbin-libdir && /Users/biocbuild/BBS/utils/build-universal.sh CCPlotR_1.8.0.tar.gz /Library/Frameworks/R.framework/Resources/bin/R CCPlotR.buildbin-libdir StartedAt: 2025-11-04 01:31:22 -0500 (Tue, 04 Nov 2025) EndedAt: 2025-11-04 01:31:44 -0500 (Tue, 04 Nov 2025) EllapsedTime: 21.9 seconds RetCode: 0 Status: OK PackageFile: CCPlotR_1.8.0.tgz PackageFileSize: 2.763 MiB