Package: CCPlotR Version: 1.7.0 Command: rm -rf CCPlotR.buildbin-libdir && mkdir CCPlotR.buildbin-libdir && /Users/biocbuild/BBS/utils/build-universal.sh CCPlotR_1.7.0.tar.gz /Library/Frameworks/R.framework/Resources/bin/R CCPlotR.buildbin-libdir StartedAt: 2025-10-26 22:31:14 -0400 (Sun, 26 Oct 2025) EndedAt: 2025-10-26 22:31:20 -0400 (Sun, 26 Oct 2025) EllapsedTime: 6.1 seconds RetCode: 0 Status: OK PackageFile: CCPlotR_1.7.0.tgz PackageFileSize: 2.765 MiB