Package: CCPlotR Version: 1.8.0 Command: /Library/Frameworks/R.framework/Resources/bin/R CMD build --keep-empty-dirs --no-resave-data CCPlotR StartedAt: 2025-11-17 19:38:56 -0500 (Mon, 17 Nov 2025) EndedAt: 2025-11-17 19:39:10 -0500 (Mon, 17 Nov 2025) EllapsedTime: 14.1 seconds RetCode: 0 Status: OK PackageFile: CCPlotR_1.8.0.tar.gz PackageFileSize: 4.95 MiB