Package: CCPROMISE Version: 1.35.0 Command: /home/biocbuild/bbs-3.22-bioc/R/bin/R CMD INSTALL CCPROMISE StartedAt: 2025-10-27 16:01:31 -0400 (Mon, 27 Oct 2025) EndedAt: 2025-10-27 16:01:46 -0400 (Mon, 27 Oct 2025) EllapsedTime: 14.5 seconds RetCode: 0 Status: OK