Package: CBN2Path Version: 0.99.18 Command: /home/biocbuild/bbs-3.22-bioc/R/bin/R CMD INSTALL CBN2Path StartedAt: 2025-10-27 15:29:49 -0400 (Mon, 27 Oct 2025) EndedAt: 2025-10-27 15:30:28 -0400 (Mon, 27 Oct 2025) EllapsedTime: 38.2 seconds RetCode: 0 Status: OK