Package: CBN2Path Version: 0.99.17 Command: /home/biocbuild/bbs-3.22-bioc/R/bin/R CMD build --keep-empty-dirs --no-resave-data --md5 CBN2Path StartedAt: 2025-10-24 16:49:10 -0400 (Fri, 24 Oct 2025) EndedAt: 2025-10-24 16:59:28 -0400 (Fri, 24 Oct 2025) EllapsedTime: 618.5 seconds RetCode: 0 Status: OK PackageFile: CBN2Path_0.99.17.tar.gz PackageFileSize: 2.282 MiB