Package: CARDspa Version: 1.2.0 Command: /home/biocbuild/bbs-3.22-bioc/R/bin/R CMD INSTALL CARDspa StartedAt: 2025-11-02 15:47:40 -0500 (Sun, 02 Nov 2025) EndedAt: 2025-11-02 15:48:58 -0500 (Sun, 02 Nov 2025) EllapsedTime: 77.5 seconds RetCode: 0 Status: OK