Package: CARDspa Version: 1.2.0 Command: /home/biocbuild/bbs-3.22-bioc/R/bin/R CMD build --keep-empty-dirs --no-resave-data --md5 CARDspa StartedAt: 2025-11-04 16:37:06 -0500 (Tue, 04 Nov 2025) EndedAt: 2025-11-04 16:43:26 -0500 (Tue, 04 Nov 2025) EllapsedTime: 380.3 seconds RetCode: 0 Status: OK PackageFile: CARDspa_1.2.0.tar.gz PackageFileSize: 3.835 MiB