Package: CAMERA Version: 1.66.0 Command: /home/biocbuild/bbs-3.22-bioc/R/bin/R CMD INSTALL CAMERA StartedAt: 2025-11-06 15:47:13 -0500 (Thu, 06 Nov 2025) EndedAt: 2025-11-06 15:48:08 -0500 (Thu, 06 Nov 2025) EllapsedTime: 55.0 seconds RetCode: 0 Status: OK