Package: CAMERA Version: 1.66.0 Command: /home/biocbuild/bbs-3.22-bioc/R/bin/R CMD build --keep-empty-dirs --no-resave-data --md5 CAMERA StartedAt: 2025-11-06 16:38:25 -0500 (Thu, 06 Nov 2025) EndedAt: 2025-11-06 16:39:45 -0500 (Thu, 06 Nov 2025) EllapsedTime: 80.1 seconds RetCode: 0 Status: OK PackageFile: CAMERA_1.66.0.tar.gz PackageFileSize: 2.44 MiB