Package: CAFE Version: 1.46.0 Command: /home/biocbuild/bbs-3.22-bioc/R/bin/R CMD INSTALL CAFE StartedAt: 2025-11-17 17:59:58 -0500 (Mon, 17 Nov 2025) EndedAt: 2025-11-17 18:00:57 -0500 (Mon, 17 Nov 2025) EllapsedTime: 59.2 seconds RetCode: 0 Status: OK