Package: CAFE Version: 1.46.0 Command: /home/biocbuild/bbs-3.22-bioc/R/bin/R CMD build --keep-empty-dirs --no-resave-data --md5 CAFE StartedAt: 2025-11-17 19:54:01 -0500 (Mon, 17 Nov 2025) EndedAt: 2025-11-17 19:55:30 -0500 (Mon, 17 Nov 2025) EllapsedTime: 89.1 seconds RetCode: 0 Status: OK PackageFile: CAFE_1.46.0.tar.gz PackageFileSize: 4.63 MiB