Package: BumpyMatrix Version: 1.18.0 Command: /home/biocbuild/R/R/bin/R CMD INSTALL BumpyMatrix StartedAt: 2025-11-13 21:20:47 -0000 (Thu, 13 Nov 2025) EndedAt: 2025-11-13 21:21:09 -0000 (Thu, 13 Nov 2025) EllapsedTime: 21.7 seconds RetCode: 0 Status: OK