Package: BumpyMatrix Version: 1.18.0 Command: /home/biocbuild/R/R/bin/R CMD build --keep-empty-dirs --no-resave-data BumpyMatrix StartedAt: 2025-11-14 00:14:43 -0000 (Fri, 14 Nov 2025) EndedAt: 2025-11-14 00:15:15 -0000 (Fri, 14 Nov 2025) EllapsedTime: 32.0 seconds RetCode: 0 Status: OK PackageFile: BumpyMatrix_1.18.0.tar.gz PackageFileSize: 384.6 KiB