Package: BulkSignalR Version: 1.2.1 Command: /Library/Frameworks/R.framework/Resources/bin/R CMD build --keep-empty-dirs --no-resave-data BulkSignalR StartedAt: 2025-11-10 15:49:00 -0500 (Mon, 10 Nov 2025) EndedAt: 2025-11-10 15:50:38 -0500 (Mon, 10 Nov 2025) EllapsedTime: 98.1 seconds RetCode: 0 Status: OK PackageFile: BulkSignalR_1.2.1.tar.gz PackageFileSize: 3.079 MiB