Package: BufferedMatrixMethods Version: 1.73.0 Command: /home/biocbuild/R/R/bin/R CMD INSTALL BufferedMatrixMethods StartedAt: 2025-10-23 20:17:16 -0000 (Thu, 23 Oct 2025) EndedAt: 2025-10-23 20:17:41 -0000 (Thu, 23 Oct 2025) EllapsedTime: 25.2 seconds RetCode: 0 Status: OK