Package: BufferedMatrixMethods Version: 1.74.0 Command: /Library/Frameworks/R.framework/Resources/bin/R CMD INSTALL BufferedMatrixMethods StartedAt: 2025-11-17 16:49:41 -0500 (Mon, 17 Nov 2025) EndedAt: 2025-11-17 16:49:49 -0500 (Mon, 17 Nov 2025) EllapsedTime: 8.0 seconds RetCode: 0 Status: OK