Package: BufferedMatrixMethods Version: 1.74.0 Command: /Library/Frameworks/R.framework/Resources/bin/R CMD build --keep-empty-dirs --no-resave-data BufferedMatrixMethods StartedAt: 2025-11-17 20:49:37 -0500 (Mon, 17 Nov 2025) EndedAt: 2025-11-17 20:49:40 -0500 (Mon, 17 Nov 2025) EllapsedTime: 2.0 seconds RetCode: 0 Status: OK PackageFile: BufferedMatrixMethods_1.74.0.tar.gz PackageFileSize: 10.86 KiB