Package: BufferedMatrixMethods Version: 1.74.0 Command: rm -rf BufferedMatrixMethods.buildbin-libdir && mkdir BufferedMatrixMethods.buildbin-libdir && /Users/biocbuild/BBS/utils/build-universal.sh BufferedMatrixMethods_1.74.0.tar.gz /Library/Frameworks/R.framework/Resources/bin/R BufferedMatrixMethods.buildbin-libdir StartedAt: 2025-11-18 17:16:49 -0500 (Tue, 18 Nov 2025) EndedAt: 2025-11-18 17:16:59 -0500 (Tue, 18 Nov 2025) EllapsedTime: 10.1 seconds RetCode: 0 Status: OK PackageFile: BufferedMatrixMethods_1.74.0.tgz PackageFileSize: 53.78 KiB