Package: BufferedMatrixMethods Version: 1.73.0 Command: /Library/Frameworks/R.framework/Resources/bin/R CMD INSTALL BufferedMatrixMethods StartedAt: 2025-10-26 15:01:34 -0400 (Sun, 26 Oct 2025) EndedAt: 2025-10-26 15:01:39 -0400 (Sun, 26 Oct 2025) EllapsedTime: 4.8 seconds RetCode: 0 Status: OK