Package: BufferedMatrixMethods Version: 1.73.0 Command: rm -rf BufferedMatrixMethods.buildbin-libdir && mkdir BufferedMatrixMethods.buildbin-libdir && /Users/biocbuild/BBS/utils/build-universal.sh BufferedMatrixMethods_1.73.0.tar.gz /Library/Frameworks/R.framework/Resources/bin/R BufferedMatrixMethods.buildbin-libdir StartedAt: 2025-10-26 22:30:50 -0400 (Sun, 26 Oct 2025) EndedAt: 2025-10-26 22:30:52 -0400 (Sun, 26 Oct 2025) EllapsedTime: 2.0 seconds RetCode: 0 Status: OK PackageFile: BufferedMatrixMethods_1.73.0.tgz PackageFileSize: 49.73 KiB