Package: BufferedMatrixMethods Version: 1.74.0 Command: /Library/Frameworks/R.framework/Resources/bin/R CMD build --keep-empty-dirs --no-resave-data BufferedMatrixMethods StartedAt: 2025-11-17 19:32:34 -0500 (Mon, 17 Nov 2025) EndedAt: 2025-11-17 19:32:35 -0500 (Mon, 17 Nov 2025) EllapsedTime: 1.0 seconds RetCode: 0 Status: OK PackageFile: BufferedMatrixMethods_1.74.0.tar.gz PackageFileSize: 10.86 KiB