Package: BufferedMatrix Version: 1.73.0 Command: /home/biocbuild/bbs-3.22-bioc/R/bin/R CMD INSTALL BufferedMatrix StartedAt: 2025-10-24 15:12:53 -0400 (Fri, 24 Oct 2025) EndedAt: 2025-10-24 15:13:07 -0400 (Fri, 24 Oct 2025) EllapsedTime: 14.0 seconds RetCode: 0 Status: OK