Package: BufferedMatrix Version: 1.74.0 Command: /Library/Frameworks/R.framework/Resources/bin/R CMD INSTALL BufferedMatrix StartedAt: 2025-11-06 15:01:35 -0500 (Thu, 06 Nov 2025) EndedAt: 2025-11-06 15:01:38 -0500 (Thu, 06 Nov 2025) EllapsedTime: 3.3 seconds RetCode: 0 Status: OK