Package: BufferedMatrix Version: 1.74.0 Command: rm -rf BufferedMatrix.buildbin-libdir && mkdir BufferedMatrix.buildbin-libdir && /Users/biocbuild/BBS/utils/build-universal.sh BufferedMatrix_1.74.0.tar.gz /Library/Frameworks/R.framework/Resources/bin/R BufferedMatrix.buildbin-libdir StartedAt: 2025-11-06 22:58:04 -0500 (Thu, 06 Nov 2025) EndedAt: 2025-11-06 22:58:07 -0500 (Thu, 06 Nov 2025) EllapsedTime: 3.1 seconds RetCode: 0 Status: OK PackageFile: BufferedMatrix_1.74.0.tgz PackageFileSize: 708 KiB