Package: BufferedMatrix Version: 1.74.0 Command: /Library/Frameworks/R.framework/Resources/bin/R CMD build --keep-empty-dirs --no-resave-data BufferedMatrix StartedAt: 2025-11-17 19:32:28 -0500 (Mon, 17 Nov 2025) EndedAt: 2025-11-17 19:32:34 -0500 (Mon, 17 Nov 2025) EllapsedTime: 6.1 seconds RetCode: 0 Status: OK PackageFile: BufferedMatrix_1.74.0.tar.gz PackageFileSize: 630.3 KiB