Package: BubbleTree Version: 2.39.0 Command: /home/biocbuild/bbs-3.22-bioc/R/bin/R CMD INSTALL BubbleTree StartedAt: 2025-10-24 15:56:03 -0400 (Fri, 24 Oct 2025) EndedAt: 2025-10-24 15:56:53 -0400 (Fri, 24 Oct 2025) EllapsedTime: 50.4 seconds RetCode: 0 Status: OK