Package: BubbleTree Version: 2.40.0 Command: /Library/Frameworks/R.framework/Resources/bin/R CMD INSTALL BubbleTree StartedAt: 2025-11-17 18:26:14 -0500 (Mon, 17 Nov 2025) EndedAt: 2025-11-17 18:28:00 -0500 (Mon, 17 Nov 2025) EllapsedTime: 105.9 seconds RetCode: 0 Status: OK