Package: BubbleTree Version: 2.39.0 Command: /Library/Frameworks/R.framework/Resources/bin/R CMD INSTALL BubbleTree StartedAt: 2025-10-26 15:23:05 -0400 (Sun, 26 Oct 2025) EndedAt: 2025-10-26 15:23:25 -0400 (Sun, 26 Oct 2025) EllapsedTime: 20.8 seconds RetCode: 0 Status: OK