Package: BubbleTree Version: 2.40.0 Command: /Library/Frameworks/R.framework/Resources/bin/R CMD INSTALL BubbleTree StartedAt: 2025-11-17 18:09:42 -0500 (Mon, 17 Nov 2025) EndedAt: 2025-11-17 18:10:03 -0500 (Mon, 17 Nov 2025) EllapsedTime: 21.0 seconds RetCode: 0 Status: OK