Package: BubbleTree Version: 2.40.0 Command: /Library/Frameworks/R.framework/Resources/bin/R CMD build --keep-empty-dirs --no-resave-data BubbleTree StartedAt: 2025-11-17 19:32:07 -0500 (Mon, 17 Nov 2025) EndedAt: 2025-11-17 19:32:37 -0500 (Mon, 17 Nov 2025) EllapsedTime: 30.3 seconds RetCode: 1 Status: ERROR PackageFile: None PackageFileSize: NA