Package: BubbleTree Version: 2.40.0 Maintainer: Todd Creasy , Wei Zhu MaintainerEmail: weizhu365 at gmail.com git_url: https://git.bioconductor.org/packages/BubbleTree git_branch: RELEASE_3_22 git_last_commit: cba34a7 git_last_commit_date: 2025-10-29 10:24:01 -0500 (Wed, 29 Oct 2025)