Package: BrowserViz Version: 2.32.0 Command: /home/biocbuild/bbs-3.22-bioc/R/bin/R CMD INSTALL BrowserViz StartedAt: 2025-10-31 15:22:23 -0400 (Fri, 31 Oct 2025) EndedAt: 2025-10-31 15:22:28 -0400 (Fri, 31 Oct 2025) EllapsedTime: 4.7 seconds RetCode: 0 Status: OK