Package: BridgeDbR Version: 2.20.0 Command: /Library/Frameworks/R.framework/Resources/bin/R CMD INSTALL BridgeDbR StartedAt: 2025-11-10 15:01:58 -0500 (Mon, 10 Nov 2025) EndedAt: 2025-11-10 15:02:08 -0500 (Mon, 10 Nov 2025) EllapsedTime: 9.7 seconds RetCode: 0 Status: OK