Package: BridgeDbR Version: 2.20.0 Command: /Library/Frameworks/R.framework/Resources/bin/R CMD build --keep-empty-dirs --no-resave-data BridgeDbR StartedAt: 2025-11-10 15:48:45 -0500 (Mon, 10 Nov 2025) EndedAt: 2025-11-10 15:48:50 -0500 (Mon, 10 Nov 2025) EllapsedTime: 4.1 seconds RetCode: 0 Status: OK PackageFile: BridgeDbR_2.20.0.tar.gz PackageFileSize: 5.03 MiB