Package: BridgeDbR Version: 2.20.0 Command: rm -rf BridgeDbR.buildbin-libdir && mkdir BridgeDbR.buildbin-libdir && /Users/biocbuild/BBS/utils/build-universal.sh BridgeDbR_2.20.0.tar.gz /Library/Frameworks/R.framework/Resources/bin/R BridgeDbR.buildbin-libdir StartedAt: 2025-11-10 23:13:18 -0500 (Mon, 10 Nov 2025) EndedAt: 2025-11-10 23:13:21 -0500 (Mon, 10 Nov 2025) EllapsedTime: 3.1 seconds RetCode: 0 Status: OK PackageFile: BridgeDbR_2.20.0.tgz PackageFileSize: 4.931 MiB