Package: BloodGen3Module Version: 1.18.0 Command: /home/biocbuild/R/R/bin/R CMD build --keep-empty-dirs --no-resave-data BloodGen3Module StartedAt: 2025-11-21 00:48:28 -0000 (Fri, 21 Nov 2025) EndedAt: 2025-11-21 00:50:13 -0000 (Fri, 21 Nov 2025) EllapsedTime: 105.0 seconds RetCode: 0 Status: OK PackageFile: BloodGen3Module_1.18.0.tar.gz PackageFileSize: 179.3 KiB