Package: BloodGen3Module Version: 1.18.0 Command: /Library/Frameworks/R.framework/Resources/bin/R CMD INSTALL BloodGen3Module StartedAt: 2025-10-30 15:22:02 -0400 (Thu, 30 Oct 2025) EndedAt: 2025-10-30 15:22:45 -0400 (Thu, 30 Oct 2025) EllapsedTime: 42.8 seconds RetCode: 0 Status: OK