Package: BloodGen3Module Version: 1.18.0 Command: rm -rf BloodGen3Module.buildbin-libdir && mkdir BloodGen3Module.buildbin-libdir && /Users/biocbuild/BBS/utils/build-universal.sh BloodGen3Module_1.18.0.tar.gz /Library/Frameworks/R.framework/Resources/bin/R BloodGen3Module.buildbin-libdir StartedAt: 2025-10-31 01:15:08 -0400 (Fri, 31 Oct 2025) EndedAt: 2025-10-31 01:15:56 -0400 (Fri, 31 Oct 2025) EllapsedTime: 48.2 seconds RetCode: 0 Status: OK PackageFile: BloodGen3Module_1.18.0.tgz PackageFileSize: 240.9 KiB