Package: BloodGen3Module Version: 1.17.0 Command: /Library/Frameworks/R.framework/Resources/bin/R CMD INSTALL BloodGen3Module StartedAt: 2025-10-24 15:14:13 -0400 (Fri, 24 Oct 2025) EndedAt: 2025-10-24 15:14:27 -0400 (Fri, 24 Oct 2025) EllapsedTime: 14.1 seconds RetCode: 0 Status: OK