Package: BiocWorkflowTools Version: 1.35.0 Command: /home/biocbuild/bbs-3.22-bioc/R/bin/R CMD INSTALL BiocWorkflowTools StartedAt: 2025-10-27 15:13:47 -0400 (Mon, 27 Oct 2025) EndedAt: 2025-10-27 15:13:57 -0400 (Mon, 27 Oct 2025) EllapsedTime: 10.1 seconds RetCode: 0 Status: OK