Package: BiocWorkflowTools Version: 1.36.0 Command: /Library/Frameworks/R.framework/Resources/bin/R CMD build --keep-empty-dirs --no-resave-data BiocWorkflowTools StartedAt: 2025-11-17 20:38:48 -0500 (Mon, 17 Nov 2025) EndedAt: 2025-11-17 20:39:03 -0500 (Mon, 17 Nov 2025) EllapsedTime: 15.1 seconds RetCode: 0 Status: OK PackageFile: BiocWorkflowTools_1.36.0.tar.gz PackageFileSize: 974.8 KiB