Package: BiocWorkflowTools Version: 1.36.0 Command: /Library/Frameworks/R.framework/Resources/bin/R CMD INSTALL BiocWorkflowTools StartedAt: 2025-11-03 15:18:12 -0500 (Mon, 03 Nov 2025) EndedAt: 2025-11-03 15:18:34 -0500 (Mon, 03 Nov 2025) EllapsedTime: 21.5 seconds RetCode: 0 Status: OK