Package: BiocWorkflowTools Version: 1.36.0 Command: /Library/Frameworks/R.framework/Resources/bin/R CMD build --keep-empty-dirs --no-resave-data BiocWorkflowTools StartedAt: 2025-11-03 16:15:03 -0500 (Mon, 03 Nov 2025) EndedAt: 2025-11-03 16:15:13 -0500 (Mon, 03 Nov 2025) EllapsedTime: 10.3 seconds RetCode: 0 Status: OK PackageFile: BiocWorkflowTools_1.36.0.tar.gz PackageFileSize: 974.8 KiB