Package: BiocWorkflowTools Version: 1.36.0 Command: rm -rf BiocWorkflowTools.buildbin-libdir && mkdir BiocWorkflowTools.buildbin-libdir && /Users/biocbuild/BBS/utils/build-universal.sh BiocWorkflowTools_1.36.0.tar.gz /Library/Frameworks/R.framework/Resources/bin/R BiocWorkflowTools.buildbin-libdir StartedAt: 2025-11-04 01:29:54 -0500 (Tue, 04 Nov 2025) EndedAt: 2025-11-04 01:30:02 -0500 (Tue, 04 Nov 2025) EllapsedTime: 8.2 seconds RetCode: 0 Status: OK PackageFile: BiocWorkflowTools_1.36.0.tgz PackageFileSize: 688.3 KiB