Package: BiocWorkflowTools Version: 1.35.0 Command: /Library/Frameworks/R.framework/Resources/bin/R CMD INSTALL BiocWorkflowTools StartedAt: 2025-10-27 15:06:17 -0400 (Mon, 27 Oct 2025) EndedAt: 2025-10-27 15:06:22 -0400 (Mon, 27 Oct 2025) EllapsedTime: 5.0 seconds RetCode: 0 Status: OK