Package: BiocWorkflowTools Version: 1.35.0 Command: rm -rf BiocWorkflowTools.buildbin-libdir && mkdir BiocWorkflowTools.buildbin-libdir && /Users/biocbuild/BBS/utils/build-universal.sh BiocWorkflowTools_1.35.0.tar.gz /Library/Frameworks/R.framework/Resources/bin/R BiocWorkflowTools.buildbin-libdir StartedAt: 2025-10-27 22:55:02 -0400 (Mon, 27 Oct 2025) EndedAt: 2025-10-27 22:55:04 -0400 (Mon, 27 Oct 2025) EllapsedTime: 2.0 seconds RetCode: 0 Status: OK PackageFile: BiocWorkflowTools_1.35.0.tgz PackageFileSize: 688.5 KiB