Package: BiocWorkflowTools Version: 1.36.0 Command: /Library/Frameworks/R.framework/Resources/bin/R CMD build --keep-empty-dirs --no-resave-data BiocWorkflowTools StartedAt: 2025-11-17 19:25:18 -0500 (Mon, 17 Nov 2025) EndedAt: 2025-11-17 19:25:21 -0500 (Mon, 17 Nov 2025) EllapsedTime: 3.0 seconds RetCode: 0 Status: OK PackageFile: BiocWorkflowTools_1.36.0.tar.gz PackageFileSize: 975.1 KiB