Package: BiocVersion Version: 3.22.0 Command: /Library/Frameworks/R.framework/Resources/bin/R CMD INSTALL BiocVersion StartedAt: 2025-11-10 15:02:24 -0500 (Mon, 10 Nov 2025) EndedAt: 2025-11-10 15:02:34 -0500 (Mon, 10 Nov 2025) EllapsedTime: 10.3 seconds RetCode: 0 Status: OK