Package: BiocVersion Version: 3.22.0 Command: /Library/Frameworks/R.framework/Resources/bin/R CMD build --keep-empty-dirs --no-resave-data BiocVersion StartedAt: 2025-11-10 15:46:09 -0500 (Mon, 10 Nov 2025) EndedAt: 2025-11-10 15:46:10 -0500 (Mon, 10 Nov 2025) EllapsedTime: 1.0 seconds RetCode: 0 Status: OK PackageFile: BiocVersion_3.22.0.tar.gz PackageFileSize: 1002 bytes